BEGIN:VCALENDAR
VERSION:2.0
PRODID:-//ChamberMaster//Event Calendar 2.0//EN
METHOD:PUBLISH
X-PUBLISHED-TTL:P3D
REFRESH-INTERVAL:P3D
CALSCALE:GREGORIAN
BEGIN:VEVENT
DTSTART:20190617T130000Z
DTEND:20190621T200000Z
X-MICROSOFT-CDO-ALLDAYEVENT:FALSE
SUMMARY:Water Wizardry Summer Camp
DESCRIPTION:Launch water rockets\, engineer aquatic vessels\, and more in this one week camp.
X-ALT-DESC;FMTTYPE=text/html:Launch water rockets\, engineer aquatic vessels\, and more in this one week camp.
LOCATION:Edison and Ford Winter Estates 2350 McGregor Blvd Fort Myers\, FL 33901
UID:e.772.3870
SEQUENCE:3
DTSTAMP:20260424T132955Z
URL:http://business.nfmchamber.org/events/details/water-wizardry-summer-camp-3870
END:VEVENT

END:VCALENDAR
