BEGIN:VCALENDAR
VERSION:2.0
PRODID:-//ChamberMaster//Event Calendar 2.0//EN
METHOD:PUBLISH
X-PUBLISHED-TTL:P3D
REFRESH-INTERVAL:P3D
CALSCALE:GREGORIAN
BEGIN:VEVENT
DTSTART:20200403T200000Z
DTEND:20200403T220000Z
X-MICROSOFT-CDO-ALLDAYEVENT:FALSE
SUMMARY:Ribbon Cutting At Gator Mike's
DESCRIPTION:Ribbon Cutting @ Gator Mike's
X-ALT-DESC;FMTTYPE=text/html:Ribbon Cutting @ Gator Mike&#39\;s
LOCATION:35 NE Pine Island Rd Cape Coral\, FL 33909
UID:e.772.4129
SEQUENCE:3
DTSTAMP:20260421T102928Z
URL:http://business.nfmchamber.org/events/details/ribbon-cutting-at-gator-mike-s-4129
END:VEVENT

END:VCALENDAR
