BEGIN:VCALENDAR
VERSION:2.0
PRODID:-//ChamberMaster//Event Calendar 2.0//EN
METHOD:PUBLISH
X-PUBLISHED-TTL:P3D
REFRESH-INTERVAL:P3D
CALSCALE:GREGORIAN
BEGIN:VEVENT
DTSTART:20200916T153000Z
DTEND:20200916T170000Z
X-MICROSOFT-CDO-ALLDAYEVENT:FALSE
SUMMARY:North Fort Myers Chamber: Business Leaders Luncheon
DESCRIPTION:Our monthly luncheons have unique themes\, time set aside for networking\, and a dynamic speaker to keep you up to date on what you need to know about your business and the North Fort Myers area.
X-ALT-DESC;FMTTYPE=text/html:<div>\n<p><span style="color: black\; font-size: 10pt">Our monthly luncheons have unique themes\, time set aside for networking\, and a dynamic speaker to keep you up to date on what you need to know about your business and the North Fort Myers area. </span></p>\n</div>\n
LOCATION:To Be Determined
UID:e.772.125
SEQUENCE:3
DTSTAMP:20260419T164316Z
URL:http://business.nfmchamber.org/events/details/north-fort-myers-chamber-business-leaders-luncheon-09-16-2020-125
END:VEVENT

END:VCALENDAR
