BEGIN:VCALENDAR
VERSION:2.0
PRODID:-//ChamberMaster//Event Calendar 2.0//EN
METHOD:PUBLISH
X-PUBLISHED-TTL:P3D
REFRESH-INTERVAL:P3D
CALSCALE:GREGORIAN
BEGIN:VEVENT
DTSTART:20201112T223000Z
DTEND:20201113T000000Z
X-MICROSOFT-CDO-ALLDAYEVENT:FALSE
SUMMARY:North Fort Myers Chamber Business After Hours
DESCRIPTION:Business After Hours is the Chamber's premier networking event\, where members can make connections\, nurture relationships or renew old friendships - all in the pursuit of increasing your business.
X-ALT-DESC;FMTTYPE=text/html:<span style="color: black\; font-size: 10pt\;">Business After Hours is the Chamber&rsquo\;s premier networking event\, where members can make connections\, nurture relationships or renew old friendships - all in the pursuit of increasing your business.</span><br />\n&nbsp\;
LOCATION:Location TBA
UID:e.772.1781
SEQUENCE:3
DTSTAMP:20260419T201346Z
URL:http://business.nfmchamber.org/events/details/north-fort-myers-chamber-business-after-hours-11-12-2020-1781
END:VEVENT

END:VCALENDAR
