BEGIN:VCALENDAR
VERSION:2.0
PRODID:-//ChamberMaster//Event Calendar 2.0//EN
METHOD:PUBLISH
X-PUBLISHED-TTL:P3D
REFRESH-INTERVAL:P3D
CALSCALE:GREGORIAN
BEGIN:VEVENT
DTSTART:20190608T140000Z
DTEND:20190608T153000Z
X-MICROSOFT-CDO-ALLDAYEVENT:FALSE
SUMMARY:Garden Talk- Flowering Trees
DESCRIPTION:June is the month when many of the flowering trees start to show their colors- they thrive with longer daylight hours\, afternoon downpours and warmer temperatures. This class will include a walk around the property\, as we identify different species and discuss each tree's eventual size\, availability and maintenance. We'll also cover how to find the perfect tree for your property. Everyone should wear shoes for walking\, a hat\, and sunscreen and bring drinking water. Participants will receive a 20% off coupon good toward purchases of trees or plants in the Garden Shoppe.
X-ALT-DESC;FMTTYPE=text/html:June is the month when many of the flowering trees start to show their colors- they thrive with longer daylight hours\, afternoon downpours and warmer temperatures. This class will include a walk around the property\, as we identify different species and discuss each tree&#39\;s eventual size\, availability and maintenance. We&#39\;ll also cover how to find the perfect tree for your property. Everyone should wear shoes for walking\, a hat\, and sunscreen and bring drinking water. Participants will receive a 20% off coupon good toward purchases of trees or plants in the Garden Shoppe.
LOCATION:Edison and Ford Winter Estates 2350 McGregor Blvd Fort Myers\, FL 33901
UID:e.772.3967
SEQUENCE:3
DTSTAMP:20260425T223917Z
URL:http://business.nfmchamber.org/events/details/garden-talk-flowering-trees-3967
END:VEVENT

END:VCALENDAR
