BEGIN:VCALENDAR
VERSION:2.0
PRODID:-//ChamberMaster//Event Calendar 2.0//EN
METHOD:PUBLISH
X-PUBLISHED-TTL:P3D
REFRESH-INTERVAL:P3D
CALSCALE:GREGORIAN
BEGIN:VEVENT
DTSTART:20200331T120000Z
DTEND:20200331T130000Z
X-MICROSOFT-CDO-ALLDAYEVENT:FALSE
SUMMARY:Executive Board Meeting
DESCRIPTION:
X-ALT-DESC;FMTTYPE=text/html:
LOCATION:
UID:e.772.1165
SEQUENCE:3
DTSTAMP:20260421T100852Z
URL:http://business.nfmchamber.org/events/details/executive-board-meeting-03-31-2020-1165
END:VEVENT

END:VCALENDAR
