BEGIN:VCALENDAR
VERSION:2.0
PRODID:-//ChamberMaster//Event Calendar 2.0//EN
METHOD:PUBLISH
X-PUBLISHED-TTL:P3D
REFRESH-INTERVAL:P3D
CALSCALE:GREGORIAN
BEGIN:VEVENT
DTSTART:20190918T153000Z
DTEND:20190918T160000Z
X-MICROSOFT-CDO-ALLDAYEVENT:FALSE
SUMMARY:Ask the Curator: The Fordson Tractor\, Agriculture's Model T
DESCRIPTION:Come join Collections Registrar\, Matt Andres\, as he examines Ford's agricultural vision. The Fordson tractor\, manufactured by Henry Ford and Son\, Inc.\, was the first lightweight\, mass-produced tractor that was affordable to the average farmer. The tractor is powered by a 4 cylinder\, 3 speed\, 20 horsepower engine and was in production in the United States between 1917 and 1928.
X-ALT-DESC;FMTTYPE=text/html:Come join Collections Registrar\, Matt Andres\, as he examines Ford&#39\;s agricultural vision. The Fordson tractor\, manufactured by Henry Ford and Son\, Inc.\, was the first lightweight\, mass-produced tractor that was affordable to the average farmer. The tractor is powered by a 4 cylinder\, 3 speed\, 20 horsepower engine and was in production in the United States between 1917 and 1928.
LOCATION:Edison and Ford Winter Estates 2350 McGregor Blvd Fort Myers\, FL 33901
UID:e.772.4032
SEQUENCE:3
DTSTAMP:20260422T130237Z
URL:http://business.nfmchamber.org/events/details/ask-the-curator-the-fordson-tractor-agriculture-s-model-t-4032
END:VEVENT

END:VCALENDAR
